Package: IVAS Version: 2.20.0 Command: chmod a+r IVAS -R && F:\biocbuild\bbs-3.17-bioc\R\bin\R.exe CMD build --keep-empty-dirs --no-resave-data IVAS StartedAt: 2023-10-15 20:02:36 -0400 (Sun, 15 Oct 2023) EndedAt: 2023-10-15 20:03:50 -0400 (Sun, 15 Oct 2023) EllapsedTime: 73.7 seconds RetCode: 0 Status: OK PackageFile: IVAS_2.20.0.tar.gz PackageFileSize: 245.8 KiB