Package: IVAS Version: 2.20.0 Command: rm -rf IVAS.buildbin-libdir && mkdir IVAS.buildbin-libdir && F:\biocbuild\bbs-3.17-bioc\R\bin\R.exe CMD INSTALL --build --library=IVAS.buildbin-libdir IVAS_2.20.0.tar.gz StartedAt: 2023-10-16 08:59:21 -0400 (Mon, 16 Oct 2023) EndedAt: 2023-10-16 09:00:16 -0400 (Mon, 16 Oct 2023) EllapsedTime: 54.7 seconds RetCode: 0 Status: OK PackageFile: IVAS_2.20.0.zip PackageFileSize: 680.4 KiB