Package: IVAS Version: 2.20.0 Command: /home/biocbuild/bbs-3.17-bioc/R/bin/R CMD INSTALL IVAS StartedAt: 2023-10-15 15:32:46 -0400 (Sun, 15 Oct 2023) EndedAt: 2023-10-15 15:33:28 -0400 (Sun, 15 Oct 2023) EllapsedTime: 41.7 seconds RetCode: 0 Status: OK