Package: IVAS Version: 2.20.0 Command: /home/biocbuild/bbs-3.17-bioc/R/bin/R CMD build --keep-empty-dirs --no-resave-data IVAS StartedAt: 2023-10-15 17:13:51 -0400 (Sun, 15 Oct 2023) EndedAt: 2023-10-15 17:14:55 -0400 (Sun, 15 Oct 2023) EllapsedTime: 64.3 seconds RetCode: 0 Status: OK PackageFile: IVAS_2.20.0.tar.gz PackageFileSize: 254.8 KiB