Package: IVAS Version: 2.20.0 Command: /Library/Frameworks/R.framework/Resources/bin/R CMD INSTALL IVAS StartedAt: 2023-10-15 15:52:53 -0400 (Sun, 15 Oct 2023) EndedAt: 2023-10-15 15:55:05 -0400 (Sun, 15 Oct 2023) EllapsedTime: 131.4 seconds RetCode: 0 Status: OK