Package: IVAS Version: 2.20.0 Command: /Library/Frameworks/R.framework/Resources/bin/R CMD build --keep-empty-dirs --no-resave-data IVAS StartedAt: 2023-10-15 19:06:24 -0400 (Sun, 15 Oct 2023) EndedAt: 2023-10-15 19:09:09 -0400 (Sun, 15 Oct 2023) EllapsedTime: 164.5 seconds RetCode: 0 Status: OK PackageFile: IVAS_2.20.0.tar.gz PackageFileSize: 255 KiB