Package: IVAS Version: 2.20.0 Command: rm -rf IVAS.buildbin-libdir && mkdir IVAS.buildbin-libdir && /Users/biocbuild/BBS/utils/build-universal.sh IVAS_2.20.0.tar.gz /Library/Frameworks/R.framework/Resources/bin/R IVAS.buildbin-libdir StartedAt: 2023-10-16 09:36:52 -0400 (Mon, 16 Oct 2023) EndedAt: 2023-10-16 09:39:12 -0400 (Mon, 16 Oct 2023) EllapsedTime: 140.2 seconds RetCode: 0 Status: OK PackageFile: IVAS_2.20.0.tgz PackageFileSize: 687 KiB