Package: ITALICS Version: 2.60.0 Command: /Library/Frameworks/R.framework/Resources/bin/R CMD check --install=check:ITALICS.install-out.txt --library=/Library/Frameworks/R.framework/Resources/library --no-vignettes --timings ITALICS_2.60.0.tar.gz StartedAt: 2023-10-16 03:04:44 -0400 (Mon, 16 Oct 2023) EndedAt: 2023-10-16 03:12:10 -0400 (Mon, 16 Oct 2023) EllapsedTime: 446.2 seconds RetCode: 0 Status: OK CheckDir: ITALICS.Rcheck Warnings: 0