Package: ITALICS Version: 2.60.0 Command: /Library/Frameworks/R.framework/Resources/bin/R CMD build --keep-empty-dirs --no-resave-data ITALICS StartedAt: 2023-10-15 19:05:30 -0400 (Sun, 15 Oct 2023) EndedAt: 2023-10-15 19:07:34 -0400 (Sun, 15 Oct 2023) EllapsedTime: 123.9 seconds RetCode: 0 Status: OK PackageFile: ITALICS_2.60.0.tar.gz PackageFileSize: 615.7 KiB