Package: ISoLDE Version: 1.28.0 Command: /home/biocbuild/bbs-3.17-bioc/R/bin/R CMD check --install=check:ISoLDE.install-out.txt --library=/home/biocbuild/bbs-3.17-bioc/R/site-library --timings ISoLDE_1.28.0.tar.gz StartedAt: 2023-10-15 22:17:00 -0400 (Sun, 15 Oct 2023) EndedAt: 2023-10-15 22:18:11 -0400 (Sun, 15 Oct 2023) EllapsedTime: 70.3 seconds RetCode: 0 Status: WARNINGS CheckDir: ISoLDE.Rcheck Warnings: 1