Package: ISoLDE Version: 1.28.0 Command: /Library/Frameworks/R.framework/Resources/bin/R CMD check --install=check:ISoLDE.install-out.txt --library=/Library/Frameworks/R.framework/Resources/library --no-vignettes --timings ISoLDE_1.28.0.tar.gz StartedAt: 2023-10-16 03:04:17 -0400 (Mon, 16 Oct 2023) EndedAt: 2023-10-16 03:07:22 -0400 (Mon, 16 Oct 2023) EllapsedTime: 184.7 seconds RetCode: 0 Status: WARNINGS CheckDir: ISoLDE.Rcheck Warnings: 1