Package: ISoLDE Version: 1.28.0 Command: /Library/Frameworks/R.framework/Resources/bin/R CMD build --keep-empty-dirs --no-resave-data ISoLDE StartedAt: 2023-10-15 19:05:18 -0400 (Sun, 15 Oct 2023) EndedAt: 2023-10-15 19:05:20 -0400 (Sun, 15 Oct 2023) EllapsedTime: 2.0 seconds RetCode: 0 Status: OK PackageFile: ISoLDE_1.28.0.tar.gz PackageFileSize: 1.228 MiB