Package: ISLET Version: 1.2.0 Command: F:\biocbuild\bbs-3.17-bioc\R\bin\R.exe CMD INSTALL ISLET StartedAt: 2023-10-15 16:05:23 -0400 (Sun, 15 Oct 2023) EndedAt: 2023-10-15 16:05:50 -0400 (Sun, 15 Oct 2023) EllapsedTime: 27.1 seconds RetCode: 0 Status: OK