Package: ISAnalytics Version: 1.10.2 Command: F:\biocbuild\bbs-3.17-bioc\R\bin\R.exe CMD check --no-multiarch --install=check:ISAnalytics.install-out.txt --library=F:\biocbuild\bbs-3.17-bioc\R\library --no-vignettes --timings ISAnalytics_1.10.2.tar.gz StartedAt: 2023-10-16 03:20:56 -0400 (Mon, 16 Oct 2023) EndedAt: 2023-10-16 03:29:12 -0400 (Mon, 16 Oct 2023) EllapsedTime: 495.1 seconds RetCode: 0 Status: OK CheckDir: ISAnalytics.Rcheck Warnings: 0