Package: ISAnalytics Version: 1.10.2 Command: chmod a+r ISAnalytics -R && F:\biocbuild\bbs-3.17-bioc\R\bin\R.exe CMD build --keep-empty-dirs --no-resave-data ISAnalytics StartedAt: 2023-10-15 20:00:14 -0400 (Sun, 15 Oct 2023) EndedAt: 2023-10-15 20:03:23 -0400 (Sun, 15 Oct 2023) EllapsedTime: 189.0 seconds RetCode: 0 Status: OK PackageFile: ISAnalytics_1.10.2.tar.gz PackageFileSize: 3.982 MiB