Package: ISAnalytics Version: 1.10.2 Command: rm -rf ISAnalytics.buildbin-libdir && mkdir ISAnalytics.buildbin-libdir && F:\biocbuild\bbs-3.17-bioc\R\bin\R.exe CMD INSTALL --build --library=ISAnalytics.buildbin-libdir ISAnalytics_1.10.2.tar.gz StartedAt: 2023-10-16 08:58:39 -0400 (Mon, 16 Oct 2023) EndedAt: 2023-10-16 09:00:04 -0400 (Mon, 16 Oct 2023) EllapsedTime: 84.4 seconds RetCode: 0 Status: OK PackageFile: ISAnalytics_1.10.2.zip PackageFileSize: 4.778 MiB