Package: ISAnalytics Version: 1.10.2 Command: /home/biocbuild/bbs-3.17-bioc/R/bin/R CMD build --keep-empty-dirs --no-resave-data ISAnalytics StartedAt: 2023-10-15 17:12:33 -0400 (Sun, 15 Oct 2023) EndedAt: 2023-10-15 17:14:46 -0400 (Sun, 15 Oct 2023) EllapsedTime: 133.7 seconds RetCode: 0 Status: OK PackageFile: ISAnalytics_1.10.2.tar.gz PackageFileSize: 4.233 MiB