Package: ISAnalytics Version: 1.10.2 Command: /Library/Frameworks/R.framework/Resources/bin/R CMD INSTALL ISAnalytics StartedAt: 2023-10-15 15:46:23 -0400 (Sun, 15 Oct 2023) EndedAt: 2023-10-15 15:47:25 -0400 (Sun, 15 Oct 2023) EllapsedTime: 61.8 seconds RetCode: 0 Status: OK