Package: IRanges Version: 2.34.1 Command: F:\biocbuild\bbs-3.17-bioc\R\bin\R.exe CMD INSTALL IRanges StartedAt: 2023-10-15 15:51:52 -0400 (Sun, 15 Oct 2023) EndedAt: 2023-10-15 15:53:25 -0400 (Sun, 15 Oct 2023) EllapsedTime: 93.1 seconds RetCode: 0 Status: OK