Package: IRanges Version: 2.34.1 Command: rm -rf IRanges.buildbin-libdir && mkdir IRanges.buildbin-libdir && F:\biocbuild\bbs-3.17-bioc\R\bin\R.exe CMD INSTALL --build --library=IRanges.buildbin-libdir IRanges_2.34.1.tar.gz StartedAt: 2023-10-16 08:58:36 -0400 (Mon, 16 Oct 2023) EndedAt: 2023-10-16 09:00:18 -0400 (Mon, 16 Oct 2023) EllapsedTime: 101.5 seconds RetCode: 0 Status: OK PackageFile: IRanges_2.34.1.zip PackageFileSize: 2.191 MiB