Package: IRanges Version: 2.34.1 Command: /home/biocbuild/bbs-3.17-bioc/R/bin/R CMD INSTALL IRanges StartedAt: 2023-10-15 15:09:09 -0400 (Sun, 15 Oct 2023) EndedAt: 2023-10-15 15:10:03 -0400 (Sun, 15 Oct 2023) EllapsedTime: 54.6 seconds RetCode: 0 Status: OK