Package: IRanges Version: 2.34.1 Command: /home/biocbuild/bbs-3.17-bioc/R/bin/R CMD check --install=check:IRanges.install-out.txt --library=/home/biocbuild/bbs-3.17-bioc/R/site-library --timings IRanges_2.34.1.tar.gz StartedAt: 2023-10-15 22:14:42 -0400 (Sun, 15 Oct 2023) EndedAt: 2023-10-15 22:17:49 -0400 (Sun, 15 Oct 2023) EllapsedTime: 186.5 seconds RetCode: 0 Status: WARNINGS CheckDir: IRanges.Rcheck Warnings: 5