Package: IRanges Version: 2.34.1 Command: /home/biocbuild/bbs-3.17-bioc/R/bin/R CMD build --keep-empty-dirs --no-resave-data IRanges StartedAt: 2023-10-15 17:12:29 -0400 (Sun, 15 Oct 2023) EndedAt: 2023-10-15 17:13:39 -0400 (Sun, 15 Oct 2023) EllapsedTime: 70.2 seconds RetCode: 0 Status: OK PackageFile: IRanges_2.34.1.tar.gz PackageFileSize: 469.8 KiB