Package: IRanges Version: 2.34.1 Command: /Library/Frameworks/R.framework/Resources/bin/R CMD INSTALL IRanges StartedAt: 2023-10-15 15:07:36 -0400 (Sun, 15 Oct 2023) EndedAt: 2023-10-15 15:09:45 -0400 (Sun, 15 Oct 2023) EllapsedTime: 129.2 seconds RetCode: 0 Status: OK