Package: IRanges Version: 2.34.1 Command: /Library/Frameworks/R.framework/Resources/bin/R CMD check --install=check:IRanges.install-out.txt --library=/Library/Frameworks/R.framework/Resources/library --no-vignettes --timings IRanges_2.34.1.tar.gz StartedAt: 2023-10-16 02:57:39 -0400 (Mon, 16 Oct 2023) EndedAt: 2023-10-16 03:06:19 -0400 (Mon, 16 Oct 2023) EllapsedTime: 520.7 seconds RetCode: 0 Status: WARNINGS CheckDir: IRanges.Rcheck Warnings: 6