Package: IRanges Version: 2.34.1 Command: /Library/Frameworks/R.framework/Resources/bin/R CMD build --keep-empty-dirs --no-resave-data IRanges StartedAt: 2023-10-15 19:04:18 -0400 (Sun, 15 Oct 2023) EndedAt: 2023-10-15 19:07:33 -0400 (Sun, 15 Oct 2023) EllapsedTime: 194.7 seconds RetCode: 0 Status: OK PackageFile: IRanges_2.34.1.tar.gz PackageFileSize: 469.3 KiB