Package: IRanges Version: 2.34.1 Command: rm -rf IRanges.buildbin-libdir && mkdir IRanges.buildbin-libdir && /Users/biocbuild/BBS/utils/build-universal.sh IRanges_2.34.1.tar.gz /Library/Frameworks/R.framework/Resources/bin/R IRanges.buildbin-libdir StartedAt: 2023-10-16 09:35:36 -0400 (Mon, 16 Oct 2023) EndedAt: 2023-10-16 09:39:11 -0400 (Mon, 16 Oct 2023) EllapsedTime: 215.3 seconds RetCode: 0 Status: OK PackageFile: IRanges_2.34.1.tgz PackageFileSize: 2.185 MiB