Package: IRISFGM Version: 1.8.0 Command: /home/biocbuild/bbs-3.17-bioc/R/bin/R CMD check --install=check:IRISFGM.install-out.txt --library=/home/biocbuild/bbs-3.17-bioc/R/site-library --timings IRISFGM_1.8.0.tar.gz StartedAt: 2023-10-15 22:15:12 -0400 (Sun, 15 Oct 2023) EndedAt: 2023-10-15 22:21:29 -0400 (Sun, 15 Oct 2023) EllapsedTime: 376.3 seconds RetCode: 1 Status: ERROR CheckDir: IRISFGM.Rcheck Warnings: NA