Package: IRISFGM Version: 1.8.0 Command: /home/biocbuild/bbs-3.17-bioc/R/bin/R CMD build --keep-empty-dirs --no-resave-data IRISFGM StartedAt: 2023-10-15 17:12:30 -0400 (Sun, 15 Oct 2023) EndedAt: 2023-10-15 17:14:27 -0400 (Sun, 15 Oct 2023) EllapsedTime: 116.3 seconds RetCode: 0 Status: OK PackageFile: IRISFGM_1.8.0.tar.gz PackageFileSize: 1.875 MiB