Package: IRISFGM Version: 1.8.0 Command: /Library/Frameworks/R.framework/Resources/bin/R CMD check --install=check:IRISFGM.install-out.txt --library=/Library/Frameworks/R.framework/Resources/library --no-vignettes --timings IRISFGM_1.8.0.tar.gz StartedAt: 2023-10-16 02:57:48 -0400 (Mon, 16 Oct 2023) EndedAt: 2023-10-16 03:14:27 -0400 (Mon, 16 Oct 2023) EllapsedTime: 998.7 seconds RetCode: 0 Status: WARNINGS CheckDir: IRISFGM.Rcheck Warnings: 1