Package: IRISFGM Version: 1.8.0 Command: rm -rf IRISFGM.buildbin-libdir && mkdir IRISFGM.buildbin-libdir && /Users/biocbuild/BBS/utils/build-universal.sh IRISFGM_1.8.0.tar.gz /Library/Frameworks/R.framework/Resources/bin/R IRISFGM.buildbin-libdir StartedAt: 2023-10-16 09:35:58 -0400 (Mon, 16 Oct 2023) EndedAt: 2023-10-16 09:40:14 -0400 (Mon, 16 Oct 2023) EllapsedTime: 255.5 seconds RetCode: 0 Status: OK PackageFile: IRISFGM_1.8.0.tgz PackageFileSize: 2.537 MiB