Package: IPO Version: 1.26.0 Command: /home/biocbuild/bbs-3.17-bioc/R/bin/R CMD build --keep-empty-dirs --no-resave-data IPO StartedAt: 2023-10-15 17:12:24 -0400 (Sun, 15 Oct 2023) EndedAt: 2023-10-15 17:27:46 -0400 (Sun, 15 Oct 2023) EllapsedTime: 922.5 seconds RetCode: 0 Status: OK PackageFile: IPO_1.26.0.tar.gz PackageFileSize: 728.6 KiB