Package: IONiseR Version: 2.24.0 Command: /Library/Frameworks/R.framework/Resources/bin/R CMD build --keep-empty-dirs --no-resave-data IONiseR StartedAt: 2023-10-15 19:03:40 -0400 (Sun, 15 Oct 2023) EndedAt: 2023-10-15 19:07:37 -0400 (Sun, 15 Oct 2023) EllapsedTime: 236.7 seconds RetCode: 0 Status: OK PackageFile: IONiseR_2.24.0.tar.gz PackageFileSize: 4.065 MiB