Package: INTACT Version: 1.0.2 Command: F:\biocbuild\bbs-3.17-bioc\R\bin\R.exe CMD INSTALL INTACT StartedAt: 2023-10-15 15:52:16 -0400 (Sun, 15 Oct 2023) EndedAt: 2023-10-15 15:52:32 -0400 (Sun, 15 Oct 2023) EllapsedTime: 15.9 seconds RetCode: 0 Status: OK