Package: INTACT Version: 1.0.2 Command: F:\biocbuild\bbs-3.17-bioc\R\bin\R.exe CMD check --no-multiarch --install=check:INTACT.install-out.txt --library=F:\biocbuild\bbs-3.17-bioc\R\library --no-vignettes --timings INTACT_1.0.2.tar.gz StartedAt: 2023-10-16 03:16:03 -0400 (Mon, 16 Oct 2023) EndedAt: 2023-10-16 03:16:34 -0400 (Mon, 16 Oct 2023) EllapsedTime: 30.8 seconds RetCode: 0 Status: OK CheckDir: INTACT.Rcheck Warnings: 0