Package: INTACT Version: 1.0.2 Command: chmod a+r INTACT -R && F:\biocbuild\bbs-3.17-bioc\R\bin\R.exe CMD build --keep-empty-dirs --no-resave-data INTACT StartedAt: 2023-10-15 19:58:04 -0400 (Sun, 15 Oct 2023) EndedAt: 2023-10-15 19:58:13 -0400 (Sun, 15 Oct 2023) EllapsedTime: 9.0 seconds RetCode: 0 Status: OK PackageFile: INTACT_1.0.2.tar.gz PackageFileSize: 265 KiB