Package: INTACT Version: 1.0.2 Command: rm -rf INTACT.buildbin-libdir && mkdir INTACT.buildbin-libdir && F:\biocbuild\bbs-3.17-bioc\R\bin\R.exe CMD INSTALL --build --library=INTACT.buildbin-libdir INTACT_1.0.2.tar.gz StartedAt: 2023-10-16 08:57:49 -0400 (Mon, 16 Oct 2023) EndedAt: 2023-10-16 08:57:57 -0400 (Mon, 16 Oct 2023) EllapsedTime: 8.0 seconds RetCode: 0 Status: OK PackageFile: INTACT_1.0.2.zip PackageFileSize: 313.2 KiB