Package: INTACT Version: 1.0.2 Command: /home/biocbuild/bbs-3.17-bioc/R/bin/R CMD INSTALL INTACT StartedAt: 2023-10-15 15:09:48 -0400 (Sun, 15 Oct 2023) EndedAt: 2023-10-15 15:10:04 -0400 (Sun, 15 Oct 2023) EllapsedTime: 16.1 seconds RetCode: 0 Status: OK