Package: INTACT Version: 1.0.2 Command: /home/biocbuild/bbs-3.17-bioc/R/bin/R CMD check --install=check:INTACT.install-out.txt --library=/home/biocbuild/bbs-3.17-bioc/R/site-library --timings INTACT_1.0.2.tar.gz StartedAt: 2023-10-15 22:10:35 -0400 (Sun, 15 Oct 2023) EndedAt: 2023-10-15 22:11:00 -0400 (Sun, 15 Oct 2023) EllapsedTime: 25.0 seconds RetCode: 0 Status: OK CheckDir: INTACT.Rcheck Warnings: 0