Package: INTACT Version: 1.0.2 Command: /Library/Frameworks/R.framework/Resources/bin/R CMD INSTALL INTACT StartedAt: 2023-10-15 15:07:55 -0400 (Sun, 15 Oct 2023) EndedAt: 2023-10-15 15:08:32 -0400 (Sun, 15 Oct 2023) EllapsedTime: 36.8 seconds RetCode: 0 Status: OK