Package: INTACT Version: 1.0.2 Command: /Library/Frameworks/R.framework/Resources/bin/R CMD check --install=check:INTACT.install-out.txt --library=/Library/Frameworks/R.framework/Resources/library --no-vignettes --timings INTACT_1.0.2.tar.gz StartedAt: 2023-10-16 02:53:31 -0400 (Mon, 16 Oct 2023) EndedAt: 2023-10-16 02:54:34 -0400 (Mon, 16 Oct 2023) EllapsedTime: 63.5 seconds RetCode: 0 Status: OK CheckDir: INTACT.Rcheck Warnings: 0