Package: INTACT Version: 1.0.2 Command: /Library/Frameworks/R.framework/Resources/bin/R CMD build --keep-empty-dirs --no-resave-data INTACT StartedAt: 2023-10-15 19:00:46 -0400 (Sun, 15 Oct 2023) EndedAt: 2023-10-15 19:01:18 -0400 (Sun, 15 Oct 2023) EllapsedTime: 32.7 seconds RetCode: 0 Status: OK PackageFile: INTACT_1.0.2.tar.gz PackageFileSize: 264.9 KiB