Package: INTACT Version: 1.0.2 Command: rm -rf INTACT.buildbin-libdir && mkdir INTACT.buildbin-libdir && /Users/biocbuild/BBS/utils/build-universal.sh INTACT_1.0.2.tar.gz /Library/Frameworks/R.framework/Resources/bin/R INTACT.buildbin-libdir StartedAt: 2023-10-16 09:35:10 -0400 (Mon, 16 Oct 2023) EndedAt: 2023-10-16 09:35:21 -0400 (Mon, 16 Oct 2023) EllapsedTime: 10.7 seconds RetCode: 0 Status: OK PackageFile: INTACT_1.0.2.tgz PackageFileSize: 308.5 KiB