Package: INSPEcT Version: 1.30.0 Command: F:\biocbuild\bbs-3.17-bioc\R\bin\R.exe CMD INSTALL INSPEcT StartedAt: 2023-10-15 16:27:49 -0400 (Sun, 15 Oct 2023) EndedAt: 2023-10-15 16:29:11 -0400 (Sun, 15 Oct 2023) EllapsedTime: 82.7 seconds RetCode: 0 Status: OK