Package: INSPEcT Version: 1.30.0 Command: chmod a+r INSPEcT -R && F:\biocbuild\bbs-3.17-bioc\R\bin\R.exe CMD build --keep-empty-dirs --no-resave-data INSPEcT StartedAt: 2023-10-15 19:57:57 -0400 (Sun, 15 Oct 2023) EndedAt: 2023-10-15 20:05:55 -0400 (Sun, 15 Oct 2023) EllapsedTime: 477.7 seconds RetCode: 0 Status: OK PackageFile: INSPEcT_1.30.0.tar.gz PackageFileSize: 7.045 MiB