Package: INSPEcT Version: 1.30.0 Command: rm -rf INSPEcT.buildbin-libdir && mkdir INSPEcT.buildbin-libdir && F:\biocbuild\bbs-3.17-bioc\R\bin\R.exe CMD INSTALL --build --library=INSPEcT.buildbin-libdir INSPEcT_1.30.0.tar.gz StartedAt: 2023-10-16 08:57:48 -0400 (Mon, 16 Oct 2023) EndedAt: 2023-10-16 08:59:14 -0400 (Mon, 16 Oct 2023) EllapsedTime: 86.6 seconds RetCode: 0 Status: OK PackageFile: INSPEcT_1.30.0.zip PackageFileSize: 7.961 MiB