Package: INSPEcT Version: 1.30.0 Command: /Library/Frameworks/R.framework/Resources/bin/R CMD INSTALL INSPEcT StartedAt: 2023-10-15 15:46:10 -0400 (Sun, 15 Oct 2023) EndedAt: 2023-10-15 15:49:37 -0400 (Sun, 15 Oct 2023) EllapsedTime: 207.1 seconds RetCode: 0 Status: OK