Package: INSPEcT Version: 1.30.0 Command: /Library/Frameworks/R.framework/Resources/bin/R CMD build --keep-empty-dirs --no-resave-data INSPEcT StartedAt: 2023-10-15 19:00:32 -0400 (Sun, 15 Oct 2023) EndedAt: 2023-10-15 19:22:22 -0400 (Sun, 15 Oct 2023) EllapsedTime: 1309.9 seconds RetCode: 0 Status: OK PackageFile: INSPEcT_1.30.0.tar.gz PackageFileSize: 7.679 MiB