Package: IMPCdata Version: 1.36.0 Command: F:\biocbuild\bbs-3.17-bioc\R\bin\R.exe CMD INSTALL IMPCdata StartedAt: 2023-10-15 15:47:02 -0400 (Sun, 15 Oct 2023) EndedAt: 2023-10-15 15:47:14 -0400 (Sun, 15 Oct 2023) EllapsedTime: 12.0 seconds RetCode: 0 Status: OK