Package: IMPCdata Version: 1.36.0 Command: rm -rf IMPCdata.buildbin-libdir && mkdir IMPCdata.buildbin-libdir && F:\biocbuild\bbs-3.17-bioc\R\bin\R.exe CMD INSTALL --build --library=IMPCdata.buildbin-libdir IMPCdata_1.36.0.tar.gz StartedAt: 2023-10-16 08:57:32 -0400 (Mon, 16 Oct 2023) EndedAt: 2023-10-16 08:57:38 -0400 (Mon, 16 Oct 2023) EllapsedTime: 6.4 seconds RetCode: 0 Status: OK PackageFile: IMPCdata_1.36.0.zip PackageFileSize: 160.5 KiB